BEGIN:VCALENDAR
VERSION:2.0
PRODID:-//Community Bible Church - ECPv6.15.12.2//NONSGML v1.0//EN
CALSCALE:GREGORIAN
METHOD:PUBLISH
X-WR-CALNAME:Community Bible Church
X-ORIGINAL-URL:https://communitybible.us
X-WR-CALDESC:Events for Community Bible Church
REFRESH-INTERVAL;VALUE=DURATION:PT1H
X-Robots-Tag:noindex
X-PUBLISHED-TTL:PT1H
BEGIN:VTIMEZONE
TZID:America/Los_Angeles
BEGIN:DAYLIGHT
TZOFFSETFROM:-0800
TZOFFSETTO:-0700
TZNAME:PDT
DTSTART:20250309T100000
END:DAYLIGHT
BEGIN:STANDARD
TZOFFSETFROM:-0700
TZOFFSETTO:-0800
TZNAME:PST
DTSTART:20251102T090000
END:STANDARD
BEGIN:DAYLIGHT
TZOFFSETFROM:-0800
TZOFFSETTO:-0700
TZNAME:PDT
DTSTART:20260308T100000
END:DAYLIGHT
BEGIN:STANDARD
TZOFFSETFROM:-0700
TZOFFSETTO:-0800
TZNAME:PST
DTSTART:20261101T090000
END:STANDARD
BEGIN:DAYLIGHT
TZOFFSETFROM:-0800
TZOFFSETTO:-0700
TZNAME:PDT
DTSTART:20270314T100000
END:DAYLIGHT
BEGIN:STANDARD
TZOFFSETFROM:-0700
TZOFFSETTO:-0800
TZNAME:PST
DTSTART:20271107T090000
END:STANDARD
END:VTIMEZONE
BEGIN:VEVENT
DTSTART;TZID=America/Los_Angeles:20260718T180000
DTEND;TZID=America/Los_Angeles:20260718T193000
DTSTAMP:20260419T222855
CREATED:20260420T004920Z
LAST-MODIFIED:20260420T050502Z
UID:108760-1784397600-1784403000@communitybible.us
SUMMARY:Saturday Supper Club
DESCRIPTION:Starting April 15\,  Saturday Supper Club. We’ll meet at a restaurant at 6pm every week for dinner and fellowship. Andie Etchison will be sending out the weekly email to everyone with where they are going.\nContact Andie with any questions\nandie.etchison@gmail.com
URL:https://communitybible.us/event/saturday-supper-club-171/
LOCATION:TBD
CATEGORIES:General
END:VEVENT
BEGIN:VEVENT
DTSTART;VALUE=DATE:20260719
DTEND;VALUE=DATE:20260725
DTSTAMP:20260419T222855
CREATED:20260420T000219Z
LAST-MODIFIED:20260420T050259Z
UID:108758-1784419200-1784937599@communitybible.us
SUMMARY:Middle School Summer Camp
DESCRIPTION:
URL:https://communitybible.us/event/middle-school-summer-camp/
CATEGORIES:Youth 5-12
END:VEVENT
BEGIN:VEVENT
DTSTART;TZID=America/Los_Angeles:20260719T100000
DTEND;TZID=America/Los_Angeles:20260719T111500
DTSTAMP:20260419T222855
CREATED:20260420T004920Z
LAST-MODIFIED:20260420T050502Z
UID:108761-1784455200-1784459700@communitybible.us
SUMMARY:Worship Service
DESCRIPTION:
URL:https://communitybible.us/event/worship-service-62/
CATEGORIES:General
END:VEVENT
END:VCALENDAR