BEGIN:VCALENDAR
VERSION:2.0
PRODID:-//Community Bible Church - ECPv6.15.12.2//NONSGML v1.0//EN
CALSCALE:GREGORIAN
METHOD:PUBLISH
X-ORIGINAL-URL:https://communitybible.us
X-WR-CALDESC:Events for Community Bible Church
REFRESH-INTERVAL;VALUE=DURATION:PT1H
X-Robots-Tag:noindex
X-PUBLISHED-TTL:PT1H
BEGIN:VTIMEZONE
TZID:America/Los_Angeles
BEGIN:DAYLIGHT
TZOFFSETFROM:-0800
TZOFFSETTO:-0700
TZNAME:PDT
DTSTART:20240310T100000
END:DAYLIGHT
BEGIN:STANDARD
TZOFFSETFROM:-0700
TZOFFSETTO:-0800
TZNAME:PST
DTSTART:20241103T090000
END:STANDARD
BEGIN:DAYLIGHT
TZOFFSETFROM:-0800
TZOFFSETTO:-0700
TZNAME:PDT
DTSTART:20250309T100000
END:DAYLIGHT
BEGIN:STANDARD
TZOFFSETFROM:-0700
TZOFFSETTO:-0800
TZNAME:PST
DTSTART:20251102T090000
END:STANDARD
BEGIN:DAYLIGHT
TZOFFSETFROM:-0800
TZOFFSETTO:-0700
TZNAME:PDT
DTSTART:20260308T100000
END:DAYLIGHT
BEGIN:STANDARD
TZOFFSETFROM:-0700
TZOFFSETTO:-0800
TZNAME:PST
DTSTART:20261101T090000
END:STANDARD
END:VTIMEZONE
BEGIN:VEVENT
DTSTART;TZID=America/Los_Angeles:20250710T090000
DTEND;TZID=America/Los_Angeles:20250710T150000
DTSTAMP:20260421T065407
CREATED:20250523T195030Z
LAST-MODIFIED:20250710T213808Z
UID:90792-1752138000-1752159600@communitybible.us
SUMMARY:Middle School Rafting
DESCRIPTION:
URL:https://communitybible.us/event/middle-school-rafting/
CATEGORIES:Youth 5-12
END:VEVENT
BEGIN:VEVENT
DTSTART;TZID=America/Los_Angeles:20250710T183000
DTEND;TZID=America/Los_Angeles:20250710T200000
DTSTAMP:20260421T065407
CREATED:20250512T010712Z
LAST-MODIFIED:20250711T023559Z
UID:90115-1752172200-1752177600@communitybible.us
SUMMARY:Brother Keepers
DESCRIPTION:We are welcoming new men to our Brothers Keepers group. Our group focuses on: \n\nAccountability\nBible Study
URL:https://communitybible.us/event/brother-keepers-199/
LOCATION:Room 203
CATEGORIES:General
END:VEVENT
END:VCALENDAR