BEGIN:VCALENDAR
VERSION:2.0
PRODID:-//Community Bible Church - ECPv6.15.12.2//NONSGML v1.0//EN
CALSCALE:GREGORIAN
METHOD:PUBLISH
X-WR-CALNAME:Community Bible Church
X-ORIGINAL-URL:https://communitybible.us
X-WR-CALDESC:Events for Community Bible Church
REFRESH-INTERVAL;VALUE=DURATION:PT1H
X-Robots-Tag:noindex
X-PUBLISHED-TTL:PT1H
BEGIN:VTIMEZONE
TZID:America/Los_Angeles
BEGIN:DAYLIGHT
TZOFFSETFROM:-0800
TZOFFSETTO:-0700
TZNAME:PDT
DTSTART:20230312T100000
END:DAYLIGHT
BEGIN:STANDARD
TZOFFSETFROM:-0700
TZOFFSETTO:-0800
TZNAME:PST
DTSTART:20231105T090000
END:STANDARD
BEGIN:DAYLIGHT
TZOFFSETFROM:-0800
TZOFFSETTO:-0700
TZNAME:PDT
DTSTART:20240310T100000
END:DAYLIGHT
BEGIN:STANDARD
TZOFFSETFROM:-0700
TZOFFSETTO:-0800
TZNAME:PST
DTSTART:20241103T090000
END:STANDARD
BEGIN:DAYLIGHT
TZOFFSETFROM:-0800
TZOFFSETTO:-0700
TZNAME:PDT
DTSTART:20250309T100000
END:DAYLIGHT
BEGIN:STANDARD
TZOFFSETFROM:-0700
TZOFFSETTO:-0800
TZNAME:PST
DTSTART:20251102T090000
END:STANDARD
END:VTIMEZONE
BEGIN:VEVENT
DTSTART;TZID=America/Los_Angeles:20241002T060000
DTEND;TZID=America/Los_Angeles:20241002T070000
DTSTAMP:20260421T221945
CREATED:20240803T000559Z
LAST-MODIFIED:20241002T134948Z
UID:74690-1727848800-1727852400@communitybible.us
SUMMARY:Brothers Keepers
DESCRIPTION:Lead by David Hooper
URL:https://communitybible.us/event/brothers-keepers-120/
LOCATION:Conference Room
CATEGORIES:General
END:VEVENT
BEGIN:VEVENT
DTSTART;TZID=America/Los_Angeles:20241002T100000
DTEND;TZID=America/Los_Angeles:20241002T113000
DTSTAMP:20260421T221945
CREATED:20240803T000559Z
LAST-MODIFIED:20241002T172059Z
UID:74691-1727863200-1727868600@communitybible.us
SUMMARY:Men's Bible Study
DESCRIPTION:Led by Vern Weaver\nNo Charge\nFor more information\, Contact the Church Office: 541-664-5576\ninfo@communitybible.us
URL:https://communitybible.us/event/mens-bible-study-173/
LOCATION:Room 203
CATEGORIES:General
END:VEVENT
BEGIN:VEVENT
DTSTART;TZID=America/Los_Angeles:20241002T100000
DTEND;TZID=America/Los_Angeles:20241002T113000
DTSTAMP:20260421T221945
CREATED:20240913T160514Z
LAST-MODIFIED:20241002T172059Z
UID:76893-1727863200-1727868600@communitybible.us
SUMMARY:Ladies Bible Study
DESCRIPTION:More Details:https://communitybible.churchcenter.com/registrations/events/2443440
URL:https://communitybible.us/event/ladies-bible-study-202/
LOCATION:Room 101
CATEGORIES:General
END:VEVENT
BEGIN:VEVENT
DTSTART;TZID=America/Los_Angeles:20241002T183000
DTEND;TZID=America/Los_Angeles:20241002T200000
DTSTAMP:20260421T221945
CREATED:20240925T195025Z
LAST-MODIFIED:20241003T023434Z
UID:77599-1727893800-1727899200@communitybible.us
SUMMARY:Youth Group
DESCRIPTION:Middle & High School Students\, meeting upstairs in the Youth Room!\nFor questions & information\, contact Eddie – 541-613-4321
URL:https://communitybible.us/event/youth-group-10/
CATEGORIES:General
END:VEVENT
BEGIN:VEVENT
DTSTART;TZID=America/Los_Angeles:20241002T183000
DTEND;TZID=America/Los_Angeles:20241002T200000
DTSTAMP:20260421T221945
CREATED:20240925T210636Z
LAST-MODIFIED:20241003T023434Z
UID:77612-1727893800-1727899200@communitybible.us
SUMMARY:AWANA
DESCRIPTION:
URL:https://communitybible.us/event/awana-115/
CATEGORIES:General
END:VEVENT
END:VCALENDAR